BEGIN:VCALENDAR
VERSION:2.0
PRODID:-//hacksw/handcal//NONSGML v1.0//EN
CALSCALE:GREGORIAN
BEGIN:VEVENT
UID:69e85af505406
DTSTAMP:20260422T052157Z
DESCRIPTION:Join the OWU Student Honors Board in Benes Room B on Thursday\, March 31st for Jeopardy themed Trivia!Register your teams of 2-8 people using the link here --&gt\;&nbsp\;https://forms.gle/6MAKJmhkWuvQGph79&nbsp\;!Prizes And Free Food Available!!
OWU Sponsoring Organization/Office: OWU Student Honors BoardContact: Emmanuella Akomeah-Sirleaf at&nbsp\;honorsboard@owu.edu
SUMMARY:Trivia Night with the Student Honors Board
DTSTART:20220331T233000Z
DTEND:20220401T003000Z
END:VEVENT
END:VCALENDAR
