BEGIN:VCALENDAR
VERSION:2.0
PRODID:-//hacksw/handcal//NONSGML v1.0//EN
CALSCALE:GREGORIAN
BEGIN:VEVENT
UID:69e85af59ab9a
DTSTAMP:20260422T052157Z
DESCRIPTION:Are you a leader? Do you love cheering on the Bishops? If so\, tryout for OWU Cheer!!
The Ohio Wesleyan Cheerleading program is now taking new athletes for the upcoming 2022 football and 2022-2023 basketball seasons! Tryouts will be held via Zoom starting in March and ending May 15. Prior experience is preferred\, but not required.
If interested please contact coach\, Ruth Shuster\, at&nbsp\;rashuste@owu.edu.
Everybody stay safe and go Bishops!!
SUMMARY:Tryout for Ohio Wesleyan Cheer
DTSTART:20220404
DTEND:20220404
END:VEVENT
END:VCALENDAR
