BEGIN:VCALENDAR
VERSION:2.0
PRODID:-//hacksw/handcal//NONSGML v1.0//EN
CALSCALE:GREGORIAN
BEGIN:VEVENT
UID:69e7bdd5618b1
DTSTAMP:20260421T181133Z
DESCRIPTION:U.S. Entrepreneurship Competition\, featuring finalists presenting to a panel of judges during Ohio Wesleyan's first national business plan competition\, in the Benes Rooms of Hamilton-Williams Campus Center\, 40 Rowland Ave.\, Delaware. Finalists will compete in two tracks: college student and professional. Winners will share in a prize pool worth nearly $500\,000. The top three competitors in each track will be announced Sept. 26\, with the first-\, second-\, and third-place designations revealed Oct. 5 during OWU's Homecoming and Family Weekend. For more information\, visit owu.edu/USEC.
SUMMARY:U.S. Entrepreneurship Competition
DTSTART:20240926T120000Z
DTEND:20240926T160000Z
END:VEVENT
END:VCALENDAR
