BEGIN:VCALENDAR
VERSION:2.0
PRODID:-//hacksw/handcal//NONSGML v1.0//EN
CALSCALE:GREGORIAN
BEGIN:VEVENT
UID:69e984a16e5b6
DTSTAMP:20260423T023201Z
DESCRIPTION:Join us at the Ross Art Museum\, 6-8pm this Thursday (Nov 21) to enjoy free Latin American inspired food\, crystal jewelry and crafts and dance lessons! We hope to see you there!
OWU Sponsoring Organization/Office: Ross Art MuseumContact: Amarilys Torres-Nunez at&nbsp\;adtorresnunez@owu.edu
SUMMARY:VIVA Night @ Ross Art Museum
DTSTART:20241121T230000Z
DTEND:20241122T010000Z
END:VEVENT
END:VCALENDAR
