BEGIN:VCALENDAR
VERSION:2.0
PRODID:-//hacksw/handcal//NONSGML v1.0//EN
CALSCALE:GREGORIAN
BEGIN:VEVENT
UID:69e74f5c81166
DTSTAMP:20260421T102012Z
DESCRIPTION:Join VIVA and Bishop Elevate on Thursday 12-1pm in the Hamwil Atrium to celebrate Latino\a\e Heritage Month! Enjoy popular cultural snacks and familiarize yourself with the latino\a\e first-gen community!
OWU Sponsoring Organization/Office: Bishop Elevate \, VIVAContact: Amarilys Torres at&nbsp\;adtorresnunez@owu.edu
SUMMARY:VIVA x Bishop Elevate Tabling Event
DTSTART:20241003T160000Z
DTEND:20241003T170000Z
END:VEVENT
END:VCALENDAR
