BEGIN:VCALENDAR
VERSION:2.0
PRODID:-//hacksw/handcal//NONSGML v1.0//EN
CALSCALE:GREGORIAN
BEGIN:VEVENT
UID:69ea22b1e885b
DTSTAMP:20260423T134625Z
DESCRIPTION:Need stamps or have questions about your absentee ballot? Visit our table in HWCC!
Description: SEAL and YDSA will be continuing our voter assistance efforts this Thursday\, Friday\, and Monday! Come by to receive stamps and ask any questions you may have about voting in person or by mail for the November 7 election!
OWU Sponsoring Organization/Office: SEAL and YDSAContact: Anna Nacci at&nbsp\;asnacci@owu.edu
SUMMARY:Voter assistance table - visit us for stamps and help!
DTSTART:20231102T160000Z
DTEND:20231102T170000Z
END:VEVENT
END:VCALENDAR
