BEGIN:VCALENDAR
VERSION:2.0
PRODID:-//hacksw/handcal//NONSGML v1.0//EN
CALSCALE:GREGORIAN
BEGIN:VEVENT
UID:69ea9dcb631d6
DTSTAMP:20260423T223139Z
DESCRIPTION:Celebrate the holidays and enjoy the spirit of the season with Ohio Wesleyan! Join President Matt vandenBerg and OWU alumni\, family\, and friends at the Washington\, D.C. Holiday Party.
Thursday\, December 12\, 6:30-8:30 p.m.
Washington\, D.C. Holiday Party-&nbsp\;Register Here
Airlines for America
Hosted by Nick Calio '75 and Lydia Keller Calio '77
SUMMARY:Washington D.C. Holiday Party
DTSTART:20241212T233000Z
DTEND:20241213T013000Z
END:VEVENT
END:VCALENDAR
