BEGIN:VCALENDAR
VERSION:2.0
PRODID:-//hacksw/handcal//NONSGML v1.0//EN
CALSCALE:GREGORIAN
BEGIN:VEVENT
UID:69e7d2add6268
DTSTAMP:20260421T194029Z
DESCRIPTION:Celebrate the holidays with Ohio Wesleyan! Join President Matt vandenBerg and OWU alumni\, family\, and friends to enjoy the spirit of the season at the Washington\, D.C. Holiday Party!
Hosted by Nick Calio '75 and Lydia Keller Calio '77
Register Here!
SUMMARY:Washington\, D.C. Holiday Party
DTSTART:20231205T233000Z
DTEND:20231206T013000Z
END:VEVENT
END:VCALENDAR
