BEGIN:VCALENDAR
VERSION:2.0
PRODID:-//hacksw/handcal//NONSGML v1.0//EN
CALSCALE:GREGORIAN
BEGIN:VEVENT
UID:69e7500d004fc
DTSTAMP:20260421T102309Z
DESCRIPTION:Get crafty with cow members\, enjoy snacks\, &amp\; engage in meaningful conversations as you explore the puzzle pieces of your identity and culture at Elisabeth&apos\;s house project! This house project will take place at the Citizens of the World SLU\, 88 Oak Hill Ave.\, from 7-9 PM. All are welcome!&nbsp\;
OWU Sponsoring Organization/Office: Citizens of the World SLUContact: Elisabeth Madore at&nbsp\;egmadore@owu.edu
SUMMARY:What Makes You\, YOU? Exploring Identity and Culture
DTSTART:20241002T230000Z
DTEND:20241003T010000Z
END:VEVENT
END:VCALENDAR
