BEGIN:VCALENDAR
VERSION:2.0
PRODID:-//hacksw/handcal//NONSGML v1.0//EN
CALSCALE:GREGORIAN
BEGIN:VEVENT
UID:69e75089f337d
DTSTAMP:20260421T102513Z
DESCRIPTION:Learn about being a successful entrepreneur internationally!&nbsp\;Attend Women In Entrepreneurship's first speaker series on Wed\, October 2 at Noon at the Chappelear Drama Center.&nbsp\;Nathan Minns is an internationally known keynote speaker\, workshop facilitator\, and conference emcee\, who believes in empowering confident communicators &amp\; innovative thinkers worldwide. As a keynote speaker and workshop facilitator projected to deliver over 100 talks across four continents in 2024\, Nathan&apos\;s commitment to fostering global innovation is evident. Learn More about Nathan:&nbsp\;https://nathanminns.com/&nbsp\;Students\, Faculty\, and Staff from All Majors and Departments are Invited!&nbsp\;Walk-ins Welcome!&nbsp\;Women In Entrepreneurship is a student-run organization\, which aims to demystify the entrepreneurial journey\, providing resources\, knowledge\, and networking opportunities that foster innovation\, leadership\, and business acumen among students. We bring to you our&nbsp\;Fall Speaker Series in collaboration with the Delaware Entrepreneurial Center.
OWU Sponsoring Organization/Office: Delaware Entrepreneurial CenterContact: Aryaka Tickoo at&nbsp\;wie@owu.edu
SUMMARY:WIE speaker series: &quot\;Global Insights\, Local Impact&quot\; with Nathan Minns
DTSTART:20241002T170000Z
DTEND:20241002T170000Z
END:VEVENT
END:VCALENDAR
