BEGIN:VCALENDAR
VERSION:2.0
PRODID:-//hacksw/handcal//NONSGML v1.0//EN
CALSCALE:GREGORIAN
BEGIN:VEVENT
UID:69e7a5e03adea
DTSTAMP:20260421T162920Z
DESCRIPTION:Join us for a viewing of the annual holiday lights on Fraternity Hill\, accompanied by a coffee and doughnut truck\, holiday tunes\, s'mores\, and hot cocoa! All are welcome and cordially invited to share in the holiday spirit by the Panhellenic Council\, Interfraternity Council\, WCSA\, CPB\, and TAP.&nbsp\;
OWU Sponsoring Organization/Office: Student Involvement OfficeContact: Maizy Pratt at&nbsp\;panhellenic@owu.edu
SUMMARY:Winterfest
DTSTART:20231208T230000Z
DTEND:20231209T003000Z
END:VEVENT
END:VCALENDAR
