BEGIN:VCALENDAR
VERSION:2.0
PRODID:-//hacksw/handcal//NONSGML v1.0//EN
CALSCALE:GREGORIAN
BEGIN:VEVENT
UID:69e7a9e4a32a0
DTSTAMP:20260421T164628Z
DESCRIPTION:NCAC Championship Recap and Intro to 2024-2025 Battling Bishops.&nbsp\;&nbsp\;
For more details on this special event please Register Here
SUMMARY:Women's Basketball event
DTSTART:20240927T220000Z
DTEND:20240928T010000Z
END:VEVENT
END:VCALENDAR
