BEGIN:VCALENDAR
VERSION:2.0
PRODID:-//hacksw/handcal//NONSGML v1.0//EN
CALSCALE:GREGORIAN
BEGIN:VEVENT
UID:69e7960abe9a9
DTSTAMP:20260421T152146Z
DESCRIPTION:Please join the World Languages &amp\; Cultures Student Board and Le Cercle Fran&ccedil\;ais for a winter celebration! The event is this Friday\, December 8\, at 4:30 pm in Benes Room A! Food and beverages will be provided on a first come first serve basis.
OWU Sponsoring Organization/Office: World Languages &amp\; CulturesContact: Anneliese Ingraham at&nbsp\;aringraham@owu.edu
SUMMARY:World Languages &amp\; Cultures Winter Celebration
DTSTART:20231208T213000Z
DTEND:20231208T230000Z
END:VEVENT
END:VCALENDAR
