BEGIN:VCALENDAR
VERSION:2.0
PRODID:-//hacksw/handcal//NONSGML v1.0//EN
CALSCALE:GREGORIAN
BEGIN:VEVENT
UID:69e9800d66e42
DTSTAMP:20260423T021229Z
DESCRIPTION:Join us for a candid conversation and Q &amp\; A with actor Wendie Malick '72.
This event is brought to you by the WOW Leadership Committee and Office of Alumni Engagement. The WOW Speaker Series is part of the larger Women of Ohio Wesleyan (WOW) program and aims to keep alive relevant topics shared and discussed during previous WOW gatherings\, introduce new topics and speakers of interest\, and encourage personal connection and dialogue between women of Ohio Wesleyan.
REGISTER NOW!
Learn more about Wendie Malick &rsquo\;72
SUMMARY:WOW Speaker Series: Unplugged with Wendie Malick '72
DTSTART:20210321T233000Z
DTEND:20210322T003000Z
END:VEVENT
END:VCALENDAR
