BEGIN:VCALENDAR
VERSION:2.0
PRODID:-//hacksw/handcal//NONSGML v1.0//EN
CALSCALE:GREGORIAN
BEGIN:VEVENT
UID:69e87804addfb
DTSTAMP:20260422T072556Z
DESCRIPTION:WOMEN IN POLITICS
The State of the Woman
What does it mean to be a woman in politics in 2024?&nbsp\;While strides have been made in recent decades towards gender equality\, women in politics remain underrepresented in leadership roles and continue to encounter unique obstacles that demand attention and action. This resilience enables them to navigate setbacks\, overcome hurdles\, and contribute to lasting change.
The State of the Woman discussion reflects a broader understanding of the interconnectedness of societal well-being&mdash\;and the recognition that&nbsp\;governance is not only representative but also responsive to the varied needs and aspirations of ALL citizens.
Our fearless panel will examine hot button issues and how the political parties frame them to women voters\; discuss the upcoming election\; and address how the&nbsp\;challenges and obstacles they encounter\, including gender bias and stereotyping\, can serve as powerful motivators to persist in their professional roles.
PANEL:
Christy George ('07)&nbsp\;&ndash\; Executive Director\, Democratic Convention Host Committee Chicago\,&nbsp\;Chicago\, IL
Kimberly McConville ('89)&nbsp\;&ndash\; Executive Director\, Ohio Beverage Association\,&nbsp\;Columbus\, OH
Veronica Pollock ('01)&nbsp\;- Vice President\, The Daschle Group\, LLC\,&nbsp\;Washington\, D.C.
Moderator: Victoria Gresh ('88)&nbsp\;&ndash\; Executive Director\, Ohio Assisted Living Association\,&nbsp\;Columbus\, OH
REGISTER HERE
SUMMARY:WOW Speaker Series: Women in Politics (virtual)
DTSTART:20240918T233000Z
DTEND:20240919T003000Z
END:VEVENT
END:VCALENDAR
