BEGIN:VCALENDAR
VERSION:2.0
PRODID:-//hacksw/handcal//NONSGML v1.0//EN
CALSCALE:GREGORIAN
BEGIN:VEVENT
UID:69e8212713913
DTSTAMP:20260422T011519Z
DESCRIPTION:The Women of Ohio Wesleyan inspire us. They are leaders\, creators\, connectors\, and much more. The Women of Ohio Wesleyan represent all ages\, backgrounds\, and lifestyles. The Women of Ohio Wesleyan give us reason to pause and say\, "Wow."
Started in 2016\, the Women of Ohio Wesleyan (WOW) has grown into a signature program\, which celebrates a community in which women can learn and share from each other\, gain fresh perspectives\, and build new or stronger friendships. WOW creates meaningful connections with Ohio Wesleyan and other women\, leading to greater engagement\, networking and mentorship opportunities\, and philanthropic support.
Learn more at owu.edu/wow
&nbsp\;
SUMMARY:WOW Weekend 2024
DTSTART:20241108T220000Z
DTEND:20241109T210000Z
END:VEVENT
END:VCALENDAR
